


BEGIN:VCALENDAR
VERSION:2.0
PRODID:-//CRI PER L&#8217;AMBIENTE
 //NONSGML Events //EN
CALSCALE:GREGORIAN
X-WR-CALNAME:CRI PER L&#8217;AMBIENTE
BEGIN:VEVENT
CREATED:20260424T104744Z
UID:10569
DTEND;VALUE=DATE:20260508T110000Z
DTSTART;VALUE=DATE:20260508T080000Z
DTSTAMP:19700101T000001Z
LOCATION:
DESCRIPTION:<p class="qtranxs-available-languages-message qtranxs-available-langua
SUMMARY:CRI PER L&#8217\;AMBIENTE
ORGANIZER:Baveno Turismo
URL;VALUE=URI:https://www.bavenoturismo.it/en/eventi/cri-per-lambiente-2/
TRANSP:OPAQUE
BEGIN:VALARM
ACTION:DISPLAY
TRIGGER;VALUE=DATE-TIME:20260508T120000Z
DESCRIPTION:Reminder for CRI PER L&#8217\;AMBIENTE
END:VALARM
END:VEVENT
END:VCALENDAR
