


BEGIN:VCALENDAR
VERSION:2.0
PRODID:-//FESTIVAL &#8220;DI PAROLA IN MUSICA&#8221; &#8211; CONCERTO NARRANTE: San Francesco aulente fiore
 //NONSGML Events //EN
CALSCALE:GREGORIAN
X-WR-CALNAME:FESTIVAL &#8220;DI PAROLA IN MUSICA&#8221; &#8211; CONCERTO NARRANTE: San Francesco aulente fiore
BEGIN:VEVENT
CREATED:20260424T113822Z
UID:10572
DTEND;VALUE=DATE:20260726T213000Z
DTSTART;VALUE=DATE:20260726T200000Z
DTSTAMP:19700101T000001Z
LOCATION:
DESCRIPTION:<p class="qtranxs-available-languages-message qtranxs-available-langua
SUMMARY:FESTIVAL &#8220\;DI PAROLA IN MUSICA&#8221\; &#8211\; CONCERTO NARRANTE: San Francesco aulente fiore
ORGANIZER:Baveno Turismo
URL;VALUE=URI:https://www.bavenoturismo.it/en/eventi/festival-di-parola-in-musica-concerto-narrante-san-francesco-aulente-fiore/
TRANSP:OPAQUE
BEGIN:VALARM
ACTION:DISPLAY
TRIGGER;VALUE=DATE-TIME:20260726T223000Z
DESCRIPTION:Reminder for FESTIVAL &#8220\;DI PAROLA IN MUSICA&#8221\; &#8211\; CONCERTO NARRANTE: San Francesco aulente fiore
END:VALARM
END:VEVENT
END:VCALENDAR
