


BEGIN:VCALENDAR
VERSION:2.0
PRODID:-//FESTIVAL &#8220;DI PAROLA IN MUSICA&#8221; &#8211; CONCERTO NARRANTE: Nitida stella
 //NONSGML Events //EN
CALSCALE:GREGORIAN
X-WR-CALNAME:FESTIVAL &#8220;DI PAROLA IN MUSICA&#8221; &#8211; CONCERTO NARRANTE: Nitida stella
BEGIN:VEVENT
CREATED:20260424T115121Z
UID:10574
DTEND;VALUE=DATE:20260807T213000Z
DTSTART;VALUE=DATE:20260807T200000Z
DTSTAMP:19700101T000001Z
LOCATION:
DESCRIPTION:<p class="qtranxs-available-languages-message qtranxs-available-langua
SUMMARY:FESTIVAL &#8220\;DI PAROLA IN MUSICA&#8221\; &#8211\; CONCERTO NARRANTE: Nitida stella
ORGANIZER:Baveno Turismo
URL;VALUE=URI:https://www.bavenoturismo.it/en/eventi/festival-di-parola-in-musica-concerto-narrante-nitida-stella/
TRANSP:OPAQUE
BEGIN:VALARM
ACTION:DISPLAY
TRIGGER;VALUE=DATE-TIME:20260807T223000Z
DESCRIPTION:Reminder for FESTIVAL &#8220\;DI PAROLA IN MUSICA&#8221\; &#8211\; CONCERTO NARRANTE: Nitida stella
END:VALARM
END:VEVENT
END:VCALENDAR
