


BEGIN:VCALENDAR
VERSION:2.0
PRODID:-//FESTIVAL &#8220;DI PAROLA IN MUSICA&#8221; &#8211; D&#8217;amore d&#8217;odio e d&#8217;altre storie
 //NONSGML Events //EN
CALSCALE:GREGORIAN
X-WR-CALNAME:FESTIVAL &#8220;DI PAROLA IN MUSICA&#8221; &#8211; D&#8217;amore d&#8217;odio e d&#8217;altre storie
BEGIN:VEVENT
CREATED:20260424T120434Z
UID:10576
DTEND;VALUE=DATE:20260912T213000Z
DTSTART;VALUE=DATE:20260912T200000Z
DTSTAMP:19700101T000001Z
LOCATION:
DESCRIPTION:<p class="qtranxs-available-languages-message qtranxs-available-langua
SUMMARY:FESTIVAL &#8220\;DI PAROLA IN MUSICA&#8221\; &#8211\; D&#8217\;amore d&#8217\;odio e d&#8217\;altre storie
ORGANIZER:Baveno Turismo
URL;VALUE=URI:https://www.bavenoturismo.it/en/eventi/festival-di-parola-in-musica-damore-dodio-e-daltre-storie/
TRANSP:OPAQUE
BEGIN:VALARM
ACTION:DISPLAY
TRIGGER;VALUE=DATE-TIME:20260912T223000Z
DESCRIPTION:Reminder for FESTIVAL &#8220\;DI PAROLA IN MUSICA&#8221\; &#8211\; D&#8217\;amore d&#8217\;odio e d&#8217\;altre storie
END:VALARM
END:VEVENT
END:VCALENDAR
