


BEGIN:VCALENDAR
VERSION:2.0
PRODID:-//BAVENO BRASS BAND CONCERT
 //NONSGML Events //EN
CALSCALE:GREGORIAN
X-WR-CALNAME:BAVENO BRASS BAND CONCERT
BEGIN:VEVENT
CREATED:20260424T124300Z
UID:10579
DTEND;VALUE=DATE:20260903T213000Z
DTSTART;VALUE=DATE:20260903T200000Z
DTSTAMP:19700101T000001Z
LOCATION:
DESCRIPTION:Thursday the 3rd of September 2026, 9pm
SUMMARY:BAVENO BRASS BAND CONCERT
ORGANIZER:Baveno Turismo
URL;VALUE=URI:https://www.bavenoturismo.it/en/eventi/concerto-del-corpo-musicale-di-baveno-4/
TRANSP:OPAQUE
BEGIN:VALARM
ACTION:DISPLAY
TRIGGER;VALUE=DATE-TIME:20260903T223000Z
DESCRIPTION:Reminder for BAVENO BRASS BAND CONCERT
END:VALARM
END:VEVENT
END:VCALENDAR
