


BEGIN:VCALENDAR
VERSION:2.0
PRODID:-//EARTH AND LAKES FESTIVAL: THE BEAUTY AND THE BEAST
 //NONSGML Events //EN
CALSCALE:GREGORIAN
X-WR-CALNAME:EARTH AND LAKES FESTIVAL: THE BEAUTY AND THE BEAST
BEGIN:VEVENT
CREATED:20240328T092607Z
UID:8928
DTEND;VALUE=DATE:20240814T210000Z
DTSTART;VALUE=DATE:20240814T200000Z
DTSTAMP:19700101T000001Z
LOCATION:
DESCRIPTION:Wednesday the 14th of  August 2024, at 9:00pm
SUMMARY:EARTH AND LAKES FESTIVAL: THE BEAUTY AND THE BEAST
ORGANIZER:Baveno Turismo
URL;VALUE=URI:https://www.bavenoturismo.it/en/eventi/terra-e-laghi-festival-la-bella-e-la-bestia/
TRANSP:OPAQUE
BEGIN:VALARM
ACTION:DISPLAY
TRIGGER;VALUE=DATE-TIME:20240814T220000Z
DESCRIPTION:Reminder for EARTH AND LAKES FESTIVAL: THE BEAUTY AND THE BEAST
END:VALARM
END:VEVENT
END:VCALENDAR
