


BEGIN:VCALENDAR
VERSION:2.0
PRODID:-//CORSI UNI3 2024-2025: DISCIPLINE UMANISTICHE: &#8220;STORIA DELLA DANZA&#8221;
 //NONSGML Events //EN
CALSCALE:GREGORIAN
X-WR-CALNAME:CORSI UNI3 2024-2025: DISCIPLINE UMANISTICHE: &#8220;STORIA DELLA DANZA&#8221;
BEGIN:VEVENT
CREATED:20240827T145813Z
UID:9340
DTEND;VALUE=DATE:20250130T160000Z
DTSTART;VALUE=DATE:20250109T140000Z
DTSTAMP:19700101T000001Z
LOCATION:
DESCRIPTION:<p class="qtranxs-available-languages-message qtranxs-available-langua
SUMMARY:CORSI UNI3 2024-2025: DISCIPLINE UMANISTICHE: &#8220\;STORIA DELLA DANZA&#8221\;
ORGANIZER:Baveno Turismo
URL;VALUE=URI:https://www.bavenoturismo.it/en/eventi/corsi-uni3-2024-2025-discipline-umanistiche-storia-della-danza/
TRANSP:OPAQUE
BEGIN:VALARM
ACTION:DISPLAY
TRIGGER;VALUE=DATE-TIME:20250130T170000Z
DESCRIPTION:Reminder for CORSI UNI3 2024-2025: DISCIPLINE UMANISTICHE: &#8220\;STORIA DELLA DANZA&#8221\;
END:VALARM
END:VEVENT
END:VCALENDAR
