


BEGIN:VCALENDAR
VERSION:2.0
PRODID:-//LA VIA DELLA MUSICA &#8211; CONCERTO SPETTACOLO
 //NONSGML Events //EN
CALSCALE:GREGORIAN
X-WR-CALNAME:LA VIA DELLA MUSICA &#8211; CONCERTO SPETTACOLO
BEGIN:VEVENT
CREATED:20251016T092124Z
UID:10230
DTEND;VALUE=DATE:20251112T203000Z
DTSTART;VALUE=DATE:20251112T193000Z
DTSTAMP:19700101T000001Z
LOCATION:
DESCRIPTION:Mercoledì 12 novembre 2025, ore 20:30
SUMMARY:LA VIA DELLA MUSICA &#8211\; CONCERTO SPETTACOLO
ORGANIZER:Baveno Turismo
URL;VALUE=URI:https://www.bavenoturismo.it/eventi/la-via-della-musica-concerto-spettacolo/
TRANSP:OPAQUE
BEGIN:VALARM
ACTION:DISPLAY
TRIGGER;VALUE=DATE-TIME:20251112T213000Z
DESCRIPTION:Reminder for LA VIA DELLA MUSICA &#8211\; CONCERTO SPETTACOLO
END:VALARM
END:VEVENT
END:VCALENDAR
