


BEGIN:VCALENDAR
VERSION:2.0
PRODID:-//CONCERTO DEL CORPO MUSICALE DI BAVENO
 //NONSGML Events //EN
CALSCALE:GREGORIAN
X-WR-CALNAME:CONCERTO DEL CORPO MUSICALE DI BAVENO
BEGIN:VEVENT
CREATED:20260424T124300Z
UID:10579
DTEND;VALUE=DATE:20260903T213000Z
DTSTART;VALUE=DATE:20260903T200000Z
DTSTAMP:19700101T000001Z
LOCATION:
DESCRIPTION:Giovedì 3 settembre 2026, ore 21:00
SUMMARY:CONCERTO DEL CORPO MUSICALE DI BAVENO
ORGANIZER:Baveno Turismo
URL;VALUE=URI:https://www.bavenoturismo.it/eventi/concerto-del-corpo-musicale-di-baveno-4/
TRANSP:OPAQUE
BEGIN:VALARM
ACTION:DISPLAY
TRIGGER;VALUE=DATE-TIME:20260903T223000Z
DESCRIPTION:Reminder for CONCERTO DEL CORPO MUSICALE DI BAVENO
END:VALARM
END:VEVENT
END:VCALENDAR
