


BEGIN:VCALENDAR
VERSION:2.0
PRODID:-//CONCERTO CORPO MUSICALE DI BAVENO
 //NONSGML Events //EN
CALSCALE:GREGORIAN
X-WR-CALNAME:CONCERTO CORPO MUSICALE DI BAVENO
BEGIN:VEVENT
CREATED:20220422T151106Z
UID:7225
DTEND;VALUE=DATE:20220907T220000Z
DTSTART;VALUE=DATE:20220907T200000Z
DTSTAMP:19700101T000001Z
LOCATION:
DESCRIPTION:Mercoledì 7 settembre 2022, ore 21:00 &nbsp;
SUMMARY:CONCERTO CORPO MUSICALE DI BAVENO
ORGANIZER:Baveno Turismo
URL;VALUE=URI:https://www.bavenoturismo.it/eventi/concerto-corpo-musicale-di-baveno-4/
TRANSP:OPAQUE
BEGIN:VALARM
ACTION:DISPLAY
TRIGGER;VALUE=DATE-TIME:20220907T230000Z
DESCRIPTION:Reminder for CONCERTO CORPO MUSICALE DI BAVENO
END:VALARM
END:VEVENT
END:VCALENDAR
