


BEGIN:VCALENDAR
VERSION:2.0
PRODID:-//FESTIVAL MUSICA IN QUOTA: ALMA SAXOPHONE QUARTET
 //NONSGML Events //EN
CALSCALE:GREGORIAN
X-WR-CALNAME:FESTIVAL MUSICA IN QUOTA: ALMA SAXOPHONE QUARTET
BEGIN:VEVENT
CREATED:20220423T152050Z
UID:7284
DTEND;VALUE=DATE:20220911T120000Z
DTSTART;VALUE=DATE:20220911T103000Z
DTSTAMP:19700101T000001Z
LOCATION:
DESCRIPTION:Domenica 11 settembre 2022, ore 11:30 &nbsp;
SUMMARY:FESTIVAL MUSICA IN QUOTA: ALMA SAXOPHONE QUARTET
ORGANIZER:Baveno Turismo
URL;VALUE=URI:https://www.bavenoturismo.it/eventi/musica-in-quota-2/
TRANSP:OPAQUE
BEGIN:VALARM
ACTION:DISPLAY
TRIGGER;VALUE=DATE-TIME:20220911T130000Z
DESCRIPTION:Reminder for FESTIVAL MUSICA IN QUOTA: ALMA SAXOPHONE QUARTET
END:VALARM
END:VEVENT
END:VCALENDAR
