


BEGIN:VCALENDAR
VERSION:2.0
PRODID:-//CONCERTO DI SANTA CECILIA
 //NONSGML Events //EN
CALSCALE:GREGORIAN
X-WR-CALNAME:CONCERTO DI SANTA CECILIA
BEGIN:VEVENT
CREATED:20220505T090634Z
UID:7342
DTEND;VALUE=DATE:20221126T213000Z
DTSTART;VALUE=DATE:20221126T170000Z
DTSTAMP:19700101T000001Z
LOCATION:
DESCRIPTION:Sabato 26 novembre 2022, ore 21:00 &nbsp;
SUMMARY:CONCERTO DI SANTA CECILIA
ORGANIZER:Baveno Turismo
URL;VALUE=URI:https://www.bavenoturismo.it/eventi/concerto-di-santa-cecilia/
TRANSP:OPAQUE
BEGIN:VALARM
ACTION:DISPLAY
TRIGGER;VALUE=DATE-TIME:20221126T223000Z
DESCRIPTION:Reminder for CONCERTO DI SANTA CECILIA
END:VALARM
END:VEVENT
END:VCALENDAR
