


BEGIN:VCALENDAR
VERSION:2.0
PRODID:-//NOTE DI NATALE
 //NONSGML Events //EN
CALSCALE:GREGORIAN
X-WR-CALNAME:NOTE DI NATALE
BEGIN:VEVENT
CREATED:20220506T151509Z
UID:7353
DTEND;VALUE=DATE:20221207T213000Z
DTSTART;VALUE=DATE:20221207T200000Z
DTSTAMP:19700101T000001Z
LOCATION:
DESCRIPTION:Mercoledì 7 dicembre 2022, ore 21:00 &nbsp;
SUMMARY:NOTE DI NATALE
ORGANIZER:Baveno Turismo
URL;VALUE=URI:https://www.bavenoturismo.it/eventi/note-di-natale-3/
TRANSP:OPAQUE
BEGIN:VALARM
ACTION:DISPLAY
TRIGGER;VALUE=DATE-TIME:20221207T223000Z
DESCRIPTION:Reminder for NOTE DI NATALE
END:VALARM
END:VEVENT
END:VCALENDAR
