


BEGIN:VCALENDAR
VERSION:2.0
PRODID:-//FESTIVAL DALLA MONTAGNA AL LAGO: THE F.I.R.S.T. CONCERT
 //NONSGML Events //EN
CALSCALE:GREGORIAN
X-WR-CALNAME:FESTIVAL DALLA MONTAGNA AL LAGO: THE F.I.R.S.T. CONCERT
BEGIN:VEVENT
CREATED:20220508T134512Z
UID:7362
DTEND;VALUE=DATE:20220803T220000Z
DTSTART;VALUE=DATE:20220803T203000Z
DTSTAMP:19700101T000001Z
LOCATION:
DESCRIPTION:Mercoledì 3 agosto 2022, ore 21:30 &nbsp;
SUMMARY:FESTIVAL DALLA MONTAGNA AL LAGO: THE F.I.R.S.T. CONCERT
ORGANIZER:Baveno Turismo
URL;VALUE=URI:https://www.bavenoturismo.it/eventi/bryan-zola-band/
TRANSP:OPAQUE
BEGIN:VALARM
ACTION:DISPLAY
TRIGGER;VALUE=DATE-TIME:20220803T230000Z
DESCRIPTION:Reminder for FESTIVAL DALLA MONTAGNA AL LAGO: THE F.I.R.S.T. CONCERT
END:VALARM
END:VEVENT
END:VCALENDAR
