


BEGIN:VCALENDAR
VERSION:2.0
PRODID:-//ESPOSIZIONE BAVENO BEFORE: MOMENTI DI SVAGO A BAVENO NEL NOVECENTO
 //NONSGML Events //EN
CALSCALE:GREGORIAN
X-WR-CALNAME:ESPOSIZIONE BAVENO BEFORE: MOMENTI DI SVAGO A BAVENO NEL NOVECENTO
BEGIN:VEVENT
CREATED:20220720T144028Z
UID:7544
DTEND;VALUE=DATE:20221030T230000Z
DTSTART;VALUE=DATE:20220729T170000Z
DTSTAMP:19700101T000001Z
LOCATION:
DESCRIPTION:Da venerdì 29 luglio a lunedì 31 ottobre 2022 &nbsp;
SUMMARY:ESPOSIZIONE BAVENO BEFORE: MOMENTI DI SVAGO A BAVENO NEL NOVECENTO
ORGANIZER:Baveno Turismo
URL;VALUE=URI:https://www.bavenoturismo.it/eventi/esposizione-baveno-before/
TRANSP:OPAQUE
BEGIN:VALARM
ACTION:DISPLAY
TRIGGER;VALUE=DATE-TIME:20221031T000000Z
DESCRIPTION:Reminder for ESPOSIZIONE BAVENO BEFORE: MOMENTI DI SVAGO A BAVENO NEL NOVECENTO
END:VALARM
END:VEVENT
END:VCALENDAR
