


BEGIN:VCALENDAR
VERSION:2.0
PRODID:-//MOSTRA BONSAI
 //NONSGML Events //EN
CALSCALE:GREGORIAN
X-WR-CALNAME:MOSTRA BONSAI
BEGIN:VEVENT
CREATED:20230504T083810Z
UID:8127
DTEND;VALUE=DATE:20230604T180000Z
DTSTART;VALUE=DATE:20230602T083000Z
DTSTAMP:19700101T000001Z
LOCATION:
DESCRIPTION:Da venerdì 2 a domenica 4 giugno 2023, ore 9.30-19.00 &nbsp;
SUMMARY:MOSTRA BONSAI
ORGANIZER:Baveno Turismo
URL;VALUE=URI:https://www.bavenoturismo.it/eventi/mostra-bonsai-5/
TRANSP:OPAQUE
BEGIN:VALARM
ACTION:DISPLAY
TRIGGER;VALUE=DATE-TIME:20230604T190000Z
DESCRIPTION:Reminder for MOSTRA BONSAI
END:VALARM
END:VEVENT
END:VCALENDAR
