


BEGIN:VCALENDAR
VERSION:2.0
PRODID:-//NATI PER LEGGERE: LETTURE BILINGUE AD ALTA VOCE AL PARCO
 //NONSGML Events //EN
CALSCALE:GREGORIAN
X-WR-CALNAME:NATI PER LEGGERE: LETTURE BILINGUE AD ALTA VOCE AL PARCO
BEGIN:VEVENT
CREATED:20230520T092704Z
UID:8170
DTEND;VALUE=DATE:20230624T110000Z
DTSTART;VALUE=DATE:20230624T100000Z
DTSTAMP:19700101T000001Z
LOCATION:
DESCRIPTION:Sabato 24 giugno 2023, ore 11.00 &nbsp;
SUMMARY:NATI PER LEGGERE: LETTURE BILINGUE AD ALTA VOCE AL PARCO
ORGANIZER:Baveno Turismo
URL;VALUE=URI:https://www.bavenoturismo.it/eventi/nati-per-leggere-letture-ad-alta-voce-al-parco/
TRANSP:OPAQUE
BEGIN:VALARM
ACTION:DISPLAY
TRIGGER;VALUE=DATE-TIME:20230624T120000Z
DESCRIPTION:Reminder for NATI PER LEGGERE: LETTURE BILINGUE AD ALTA VOCE AL PARCO
END:VALARM
END:VEVENT
END:VCALENDAR
