


BEGIN:VCALENDAR
VERSION:2.0
PRODID:-//CORSI UNI3 2024-2025: LABORATORIO DI LINGUA: &#8220;FRANCESE LIVELLO BASE&#8221;
 //NONSGML Events //EN
CALSCALE:GREGORIAN
X-WR-CALNAME:CORSI UNI3 2024-2025: LABORATORIO DI LINGUA: &#8220;FRANCESE LIVELLO BASE&#8221;
BEGIN:VEVENT
CREATED:20240827T143635Z
UID:9332
DTEND;VALUE=DATE:20241219T213000Z
DTSTART;VALUE=DATE:20241111T193000Z
DTSTAMP:19700101T000001Z
LOCATION:
DESCRIPTION:Lunedì e giovedì dalle ore 20.30 alle ore 22.30, dall'11/11/24 al 1
SUMMARY:CORSI UNI3 2024-2025: LABORATORIO DI LINGUA: &#8220\;FRANCESE LIVELLO BASE&#8221\;
ORGANIZER:Baveno Turismo
URL;VALUE=URI:https://www.bavenoturismo.it/eventi/corsi-uni3-2024-2025-laboratorio-di-lingua-francese-livello-base/
TRANSP:OPAQUE
BEGIN:VALARM
ACTION:DISPLAY
TRIGGER;VALUE=DATE-TIME:20241219T223000Z
DESCRIPTION:Reminder for CORSI UNI3 2024-2025: LABORATORIO DI LINGUA: &#8220\;FRANCESE LIVELLO BASE&#8221\;
END:VALARM
END:VEVENT
END:VCALENDAR
