


BEGIN:VCALENDAR
VERSION:2.0
PRODID:-//SUMIE: CORSO DI PITTURA GIAPPONESE A INCHIOSTRO
 //NONSGML Events //EN
CALSCALE:GREGORIAN
X-WR-CALNAME:SUMIE: CORSO DI PITTURA GIAPPONESE A INCHIOSTRO
BEGIN:VEVENT
CREATED:20240829T073732Z
UID:9396
DTEND;VALUE=DATE:20241116T160000Z
DTSTART;VALUE=DATE:20241019T140000Z
DTSTAMP:19700101T000001Z
LOCATION:
DESCRIPTION:Sabato, dalle ore 15.00 alle ore 17.00, dal 19/10/2024 al 16/11/24
SUMMARY:SUMIE: CORSO DI PITTURA GIAPPONESE A INCHIOSTRO
ORGANIZER:Baveno Turismo
URL;VALUE=URI:https://www.bavenoturismo.it/eventi/sumie-corso-di-pittura-giapponese-a-inchiostro-3/
TRANSP:OPAQUE
BEGIN:VALARM
ACTION:DISPLAY
TRIGGER;VALUE=DATE-TIME:20241116T170000Z
DESCRIPTION:Reminder for SUMIE: CORSO DI PITTURA GIAPPONESE A INCHIOSTRO
END:VALARM
END:VEVENT
END:VCALENDAR
